BEGIN:VCALENDAR
VERSION:2.0
PRODID:-//eventon.com NONSGML v1.0//EN
CALSCALE:GREGORIAN
METHOD:PUBLISH
BEGIN:VEVENT
UID:69e5f6918ee5e
DTSTAMP:20260420T094905Z
DTSTART:20230108T090100Z
DTEND:20230108T170100Z
LOCATION:
SUMMARY:NDB Ranking #3 - Open Stedendriehoek
DESCRIPTION:\nhttps://www.dartvk.nl/events/ndb-ranking-3-open-stedendriehoe
 k/
URL:https://www.dartvk.nl/events/ndb-ranking-3-open-stedendriehoek/
END:VEVENT
END:VCALENDAR